BEGIN:VCALENDAR
VERSION:2.0
PRODID:-//wp-events-plugin.com//6.6.4.4//EN
TZID:Asia/Kolkata
X-WR-TIMEZONE:Asia/Kolkata
BEGIN:VEVENT
UID:1@gitavatika.com
DTSTART;VALUE=DATE:20230529
DTEND;VALUE=DATE:20230531
DTSTAMP:20230524T015028Z
URL:https://www.gitavatika.com/events/test-event/
SUMMARY:Test Event
DESCRIPTION:
END:VEVENT
END:VCALENDAR